BEGIN:VCALENDAR
VERSION:2.0
PRODID:gruene-sprockhoevel.de
METHOD:PUBLISH
BEGIN:VTIMEZONE
TZID:Europe/Berlin
X-LIC-LOCATION:Europe/Berlin
BEGIN:DAYLIGHT
TZOFFSETFROM:+0100
TZOFFSETTO:+0200
TZNAME:CEST
DTSTART:19700329T020000
RRULE:FREQ=YEARLY;INTERVAL=1;BYDAY=-1SU;BYMONTH=3
END:DAYLIGHT
BEGIN:STANDARD
TZOFFSETFROM:+0200
TZOFFSETTO:+0100
TZNAME:CET
DTSTART:19701025T030000
RRULE:FREQ=YEARLY;INTERVAL=1;BYDAY=-1SU;BYMONTH=10
END:STANDARD
END:VTIMEZONE
BEGIN:VEVENT
UID:66a3af45623dcf096068e34c5b6a007e@gruene-sprockhoevel.de
URL;VALUE=URI:https://gruene-sprockhoevel.de/termine/sitzung-des-kinder-u
 nd-jugendparlaments/
LOCATION:Rathaus - Sitzungssaal, Rathausplatz 4, 45549 Sprockhövel
SUMMARY:Sitzung des Kinder- und Jugendparlaments
DESCRIPTION;ALTREP="data:text/html,%0A%3Cp%3EAlle%20Informationen%20zu%20
 der%20Sitzung%20finden%20sich%20hier%3A%20%3Ca%20href%3D%22https%3A%2F%2F
 sprockhoevel.ratsinfomanagement.net%2Ftops%2F%3F__%3DUGhVM0hpd2NXNFdFcExj
 Zb-xTW81FJ-lx0Y2sXnksp0%22%3ESitzungstermin%20-%202024%20-%20Kinder-%20un
 d%20Jugendparlament%2C%2011.%20Sitzung%20%7C%20Stadt%20Sprockh%C3%B6vel%2
 0%7C%20Ratsinformationssystem%20%28ratsinfomanagement.net%29%3C%2Fa%3E%3C
 %2Fp%3E%0A%0A%0A%0A%3Cp%3E%3C%2Fp%3E%0A":Alle Informationen zu der Sitzun
 g finden sich hier: Sitzungstermin - 2024 - Kinder- und Jugendparlament\,
  11. Sitzung | Stadt Sprockhövel | Ratsinformationssystem (ratsinfomanag
 ement.net)
CLASS:PUBLIC
DTSTART;TZID=Europe/Berlin:20240827T163000
DTEND;TZID=Europe/Berlin:20240827T183000
DTSTAMP:20260419T203029
END:VEVENT
END:VCALENDAR