BEGIN:VCALENDAR
VERSION:2.0
PRODID:gruene-sprockhoevel.de
METHOD:PUBLISH
BEGIN:VTIMEZONE
TZID:Europe/Berlin
X-LIC-LOCATION:Europe/Berlin
BEGIN:DAYLIGHT
TZOFFSETFROM:+0100
TZOFFSETTO:+0200
TZNAME:CEST
DTSTART:19700329T020000
RRULE:FREQ=YEARLY;INTERVAL=1;BYDAY=-1SU;BYMONTH=3
END:DAYLIGHT
BEGIN:STANDARD
TZOFFSETFROM:+0200
TZOFFSETTO:+0100
TZNAME:CET
DTSTART:19701025T030000
RRULE:FREQ=YEARLY;INTERVAL=1;BYDAY=-1SU;BYMONTH=10
END:STANDARD
END:VTIMEZONE
BEGIN:VEVENT
UID:0711cf16841b56e73e94b1fa61d2c312@gruene-sprockhoevel.de
URL;VALUE=URI:https://gruene-sprockhoevel.de/termine/sitzung-des-rates/
LOCATION:Forum der Gemeinschaftsgrundschule Börgersbruch, Dresdener Stra
 ße 43, Sprockhövel
SUMMARY:Sitzung des Rates
DESCRIPTION;ALTREP="data:text/html,%0A%3Cp%3EDie%20Tagesordnung%20der%20l
 etzten%20Sitzung%20vor%20der%20Sommerpause%20findet%20sich%20hier%3A%20ht
 tps%3A%2F%2Fsprockhoevel.more-rubin1.de%2Fmeeting.php%3Fid%3D2023-Rat-110
 %3C%2Fp%3E%0A":Die Tagesordnung der letzten Sitzung vor der Sommerpause f
 indet sich hier: https://sprockhoevel.more-rubin1.de/meeting.php?id=2023-
 Rat-110
CLASS:PUBLIC
DTSTART;TZID=Europe/Berlin:20230525T173000
DTEND;TZID=Europe/Berlin:20230525T200000
DTSTAMP:20260420T070449
END:VEVENT
END:VCALENDAR