BEGIN:VCALENDAR
VERSION:2.0
PRODID:gruene-sprockhoevel.de
METHOD:PUBLISH
BEGIN:VTIMEZONE
TZID:Europe/Berlin
X-LIC-LOCATION:Europe/Berlin
BEGIN:DAYLIGHT
TZOFFSETFROM:+0100
TZOFFSETTO:+0200
TZNAME:CEST
DTSTART:19700329T020000
RRULE:FREQ=YEARLY;INTERVAL=1;BYDAY=-1SU;BYMONTH=3
END:DAYLIGHT
BEGIN:STANDARD
TZOFFSETFROM:+0200
TZOFFSETTO:+0100
TZNAME:CET
DTSTART:19701025T030000
RRULE:FREQ=YEARLY;INTERVAL=1;BYDAY=-1SU;BYMONTH=10
END:STANDARD
END:VTIMEZONE
BEGIN:VEVENT
UID:ea5a7098bd257dbb5b15abe7f3687bdd@gruene-sprockhoevel.de
URL;VALUE=URI:https://gruene-sprockhoevel.de/termine/sitzung-des-rates-2/
LOCATION:Foyer GGS Börgersbruch, Dresdener Straße 44
SUMMARY:Sitzung des Rates
DESCRIPTION;ALTREP="data:text/html,%0A%3Cp%3EHier%20werden%20alle%20wicht
 igen%20Themen%20der%20Ausschusssitzungen%20in%20den%20Monaten%20davor%20n
 ochmal%20besprochen%20und%20final%20beschlossen.%20Es%20ist%20also%20eine
 %20spannende%20Sitzung%2C%20Einwohner%20k%C3%B6nnen%20auch%20Fragen%20ste
 llen%21%20Hier%20findet%20ihr%20zwei%20Wochen%20vorher%20alle%20Infos%3A%
 20https%3A%2F%2Fsprockhoevel.ratsinfomanagement.net%2Ftops%2F%3F__%3DUGhV
 M0hpd2NXNFdFcExjZchp7WnJ6F1FcLtsalNA5Fo%3C%2Fp%3E%0A":Hier werden alle wi
 chtigen Themen der Ausschusssitzungen in den Monaten davor nochmal bespro
 chen und final beschlossen. Es ist also eine spannende Sitzung\, Einwohne
 r können auch Fragen stellen! Hier findet ihr zwei Wochen vorher alle In
 fos: https://sprockhoevel.ratsinfomanagement.net/tops/?__=UGhVM0hpd2NXNFd
 FcExjZchp7WnJ6F1FcLtsalNA5Fo
CLASS:PUBLIC
DTSTART;TZID=Europe/Berlin:20230914T173000
DTEND;TZID=Europe/Berlin:20230914T200000
DTSTAMP:20260420T052815
END:VEVENT
END:VCALENDAR