BEGIN:VCALENDAR
VERSION:2.0
PRODID:gruene-sprockhoevel.de
METHOD:PUBLISH
BEGIN:VTIMEZONE
TZID:Europe/Berlin
X-LIC-LOCATION:Europe/Berlin
BEGIN:DAYLIGHT
TZOFFSETFROM:+0100
TZOFFSETTO:+0200
TZNAME:CEST
DTSTART:19700329T020000
RRULE:FREQ=YEARLY;INTERVAL=1;BYDAY=-1SU;BYMONTH=3
END:DAYLIGHT
BEGIN:STANDARD
TZOFFSETFROM:+0200
TZOFFSETTO:+0100
TZNAME:CET
DTSTART:19701025T030000
RRULE:FREQ=YEARLY;INTERVAL=1;BYDAY=-1SU;BYMONTH=10
END:STANDARD
END:VTIMEZONE
BEGIN:VEVENT
UID:21479b7994f9e6dd754792a374725105@gruene-sprockhoevel.de
URL;VALUE=URI:https://gruene-sprockhoevel.de/termine/sitzung-des-rates-3/
LOCATION:GGS Börgersbruch, Dresdener Straße 43, Sprockhövel
SUMMARY:Sitzung des Rates
DESCRIPTION;ALTREP="data:text/html,%0A%3Cp%3EHier%20wird%20final%20%C3%BC
 ber%20Angelegenheiten%20entschieden%2C%20die%20in%20Sprockh%C3%B6vel%20ak
 tuell%20relevant%20sind.%20Die%20Tagesordnung%20und%20weitere%20Infos%20f
 inden%20sich%20zwei%20Wochen%20zuvor%20hier%3A%20https%3A%2F%2Fsprockhoev
 el.ratsinfomanagement.net%2Ftops%2F%3F__%3DUGhVM0hpd2NXNFdFcExjZe0SNlUOI_
 sTctkeqhr8IyU%3C%2Fp%3E%0A":Hier wird final über Angelegenheiten entschi
 eden\, die in Sprockhövel aktuell relevant sind. Die Tagesordnung und we
 itere Infos finden sich zwei Wochen zuvor hier: https://sprockhoevel.rats
 infomanagement.net/tops/?__=UGhVM0hpd2NXNFdFcExjZe0SNlUOI_sTctkeqhr8IyU
CLASS:PUBLIC
DTSTART;TZID=Europe/Berlin:20231123T173000
DTEND;TZID=Europe/Berlin:20231123T200000
DTSTAMP:20260420T052815
END:VEVENT
END:VCALENDAR