BEGIN:VCALENDAR
VERSION:2.0
PRODID:gruene-sprockhoevel.de
METHOD:PUBLISH
BEGIN:VTIMEZONE
TZID:Europe/Berlin
X-LIC-LOCATION:Europe/Berlin
BEGIN:DAYLIGHT
TZOFFSETFROM:+0100
TZOFFSETTO:+0200
TZNAME:CEST
DTSTART:19700329T020000
RRULE:FREQ=YEARLY;INTERVAL=1;BYDAY=-1SU;BYMONTH=3
END:DAYLIGHT
BEGIN:STANDARD
TZOFFSETFROM:+0200
TZOFFSETTO:+0100
TZNAME:CET
DTSTART:19701025T030000
RRULE:FREQ=YEARLY;INTERVAL=1;BYDAY=-1SU;BYMONTH=10
END:STANDARD
END:VTIMEZONE
BEGIN:VEVENT
UID:711a0ea276d3fd5f1a46b98c75de0eae@gruene-sprockhoevel.de
URL;VALUE=URI:https://gruene-sprockhoevel.de/termine/sitzung-des-rechnung
 spruefungsausschusses/
LOCATION:Rathaus, Rathausplatz 4, Sprockhövel
SUMMARY:Sitzung des Rechnungsprüfungsausschusses
DESCRIPTION;ALTREP="data:text/html,%0A%3Cp%3EHier%20wird%20die%20Arbeit%2
 0der%20Verwaltung%20hinsichtlich%20der%20Finanzen%20kontrolliert%2C%20Inf
 os%20finden%20sich%20hier%3A%20https%3A%2F%2Fsprockhoevel.ratsinfomanagem
 ent.net%2Ftops%2F%3F__%3DUGhVM0hpd2NXNFdFcExjZW2XZoG9a6-dZZ-XybZfRTA%3C%2
 Fp%3E%0A":Hier wird die Arbeit der Verwaltung hinsichtlich der Finanzen k
 ontrolliert\, Infos finden sich hier: https://sprockhoevel.ratsinfomanage
 ment.net/tops/?__=UGhVM0hpd2NXNFdFcExjZW2XZoG9a6-dZZ-XybZfRTA
CLASS:PUBLIC
DTSTART;TZID=Europe/Berlin:20231206T173000
DTEND;TZID=Europe/Berlin:20231206T190000
DTSTAMP:20260419T202932
END:VEVENT
END:VCALENDAR