BEGIN:VCALENDAR
VERSION:2.0
PRODID:gruene-sprockhoevel.de
METHOD:PUBLISH
BEGIN:VTIMEZONE
TZID:Europe/Berlin
X-LIC-LOCATION:Europe/Berlin
BEGIN:DAYLIGHT
TZOFFSETFROM:+0100
TZOFFSETTO:+0200
TZNAME:CEST
DTSTART:19700329T020000
RRULE:FREQ=YEARLY;INTERVAL=1;BYDAY=-1SU;BYMONTH=3
END:DAYLIGHT
BEGIN:STANDARD
TZOFFSETFROM:+0200
TZOFFSETTO:+0100
TZNAME:CET
DTSTART:19701025T030000
RRULE:FREQ=YEARLY;INTERVAL=1;BYDAY=-1SU;BYMONTH=10
END:STANDARD
END:VTIMEZONE
BEGIN:VEVENT
UID:9e867e0e1836a61b202f0f5027993b03@gruene-sprockhoevel.de
URL;VALUE=URI:https://gruene-sprockhoevel.de/termine/sitzung-des-stadtrat
 es/
LOCATION:Glückauf-Halle, Dresdener Straße 11, Sprockhövel
SUMMARY:Sitzung des Stadtrates
DESCRIPTION;ALTREP="data:text/html,%0A%3Cp%3EAlle%20Infos%20zu%20der%20Si
 tzung%20finden%20sich%20hier%3A%20https%3A%2F%2Fsprockhoevel.more-rubin1.
 de%2Fmeeting.php%3Fid%3D2023-Rat-109%3C%2Fp%3E%0A":Alle Infos zu der Sitz
 ung finden sich hier: https://sprockhoevel.more-rubin1.de/meeting.php?id=
 2023-Rat-109
CLASS:PUBLIC
DTSTART;TZID=Europe/Berlin:20230316T173000
DTEND;TZID=Europe/Berlin:20230316T200000
DTSTAMP:20260420T020201
END:VEVENT
END:VCALENDAR