BEGIN:VCALENDAR
VERSION:2.0
PRODID:gruene-sprockhoevel.de
METHOD:PUBLISH
BEGIN:VTIMEZONE
TZID:Europe/Berlin
X-LIC-LOCATION:Europe/Berlin
BEGIN:DAYLIGHT
TZOFFSETFROM:+0100
TZOFFSETTO:+0200
TZNAME:CEST
DTSTART:19700329T020000
RRULE:FREQ=YEARLY;INTERVAL=1;BYDAY=-1SU;BYMONTH=3
END:DAYLIGHT
BEGIN:STANDARD
TZOFFSETFROM:+0200
TZOFFSETTO:+0100
TZNAME:CET
DTSTART:19701025T030000
RRULE:FREQ=YEARLY;INTERVAL=1;BYDAY=-1SU;BYMONTH=10
END:STANDARD
END:VTIMEZONE
BEGIN:VEVENT
UID:eef1a492da2f3983275a238156e03317@gruene-sprockhoevel.de
URL;VALUE=URI:https://gruene-sprockhoevel.de/termine/sommerempfang-der-gr
 uenen-ennepe-ruhr/
LOCATION:Wetter
SUMMARY:Sommerempfang der Grünen Ennepe-Ruhr
DESCRIPTION;ALTREP="data:text/html,%0A%3Cp%3EDie%20Gr%C3%BCnen%20Ennepe-R
 uhr%20laden%20Dich%20herzlich%20ein%20zu%20ihrem%20Sommerempfang%20am%20%
 3Cstrong%3ESamstag%2C%20den%2012.%20August%202023%3C%2Fstrong%3E%20%3Cstr
 ong%3Eab%2011%3A30%20Uhr%20in%20Wetter.%3C%2Fstrong%3E%20Auch%20wird%20al
 s%20besonderer%20Gast%20Oliver%20Krischer%2C%20unser%20NRW-Minister%20f%C
 3%BCr%20Umwelt%2C%20Naturschutz%20und%20Verkehr%2C%20da%20sein%21%20Wenn%
 20Du%20mit%20dabei%20sein%20m%C3%B6chtest%2C%20solltest%20Du%20bis%20zum%
 2007.08.2023%20unter%20%3Ca%20href%3D%22mailto%3Ainfo%40gruene-en.de%22%3
 Einfo%40gruene-en.de%3C%2Fa%3E%20anmelden.%20Wir%20hoffen%2C%20Dich%20dor
 t%20zu%20sehen...%3C%2Fp%3E%0A":Die Grünen Ennepe-Ruhr laden Dich herzli
 ch ein zu ihrem Sommerempfang am Samstag\, den 12. August 2023 ab 11:30 U
 hr in Wetter. Auch wird als besonderer Gast Oliver Krischer\, unser NRW-M
 inister für Umwelt\, Naturschutz und Verkehr\, da sein! Wenn Du mit dabe
 i sein möchtest\, solltest Du bis zum 07.08.2023 unter info@gruene-en.de
  anmelden. Wir hoffen\, Dich dort zu sehen...
CLASS:PUBLIC
DTSTART;TZID=Europe/Berlin:20230812T113000
DTEND;TZID=Europe/Berlin:20230812T140000
DTSTAMP:20260420T032255
END:VEVENT
END:VCALENDAR