BEGIN:VCALENDAR
VERSION:2.0
PRODID:gruene-sprockhoevel.de
METHOD:PUBLISH
BEGIN:VTIMEZONE
TZID:Europe/Berlin
X-LIC-LOCATION:Europe/Berlin
BEGIN:DAYLIGHT
TZOFFSETFROM:+0100
TZOFFSETTO:+0200
TZNAME:CEST
DTSTART:19700329T020000
RRULE:FREQ=YEARLY;INTERVAL=1;BYDAY=-1SU;BYMONTH=3
END:DAYLIGHT
BEGIN:STANDARD
TZOFFSETFROM:+0200
TZOFFSETTO:+0100
TZNAME:CET
DTSTART:19701025T030000
RRULE:FREQ=YEARLY;INTERVAL=1;BYDAY=-1SU;BYMONTH=10
END:STANDARD
END:VTIMEZONE
BEGIN:VEVENT
UID:c303ce8f78a6bcbda3a1b53482abbb67@gruene-sprockhoevel.de
URL;VALUE=URI:https://gruene-sprockhoevel.de/termine/sprockhoevel-putztmu
 nter-2/
LOCATION:Grünes Büro, Am Eicken 10c, Sprockhövel
SUMMARY:Sprockhövel Putz(t)munter
DESCRIPTION;ALTREP="data:text/html,%0A%3Cp%3EHier%20reinigen%20wir%20geme
 insam%20die%20Trasse.%20Zwar%20versuchen%20wir%20auch%2C%20politisch%20f%
 C3%BCr%20weniger%20Verschmutzung%20zu%20k%C3%A4mpfen%2C%20aber%20wir%20pa
 cken%20auch%20selbst%20mit%20an%21%20Sei%20gern%20mit%20dabei%2C%20im%20A
 nschluss%20ans%20Putzen%20gibt%27s%20f%C3%BCr%20alle%20Pizza.%20%3C%2Fp%3
 E%0A":Hier reinigen wir gemeinsam die Trasse. Zwar versuchen wir auch\, p
 olitisch für weniger Verschmutzung zu kämpfen\, aber wir packen auch se
 lbst mit an! Sei gern mit dabei\, im Anschluss ans Putzen gibt's für all
 e Pizza.
CLASS:PUBLIC
DTSTART;TZID=Europe/Berlin:20240412T163000
DTEND;TZID=Europe/Berlin:20240412T183000
DTSTAMP:20260419T233851
END:VEVENT
END:VCALENDAR