BEGIN:VCALENDAR
VERSION:2.0
PRODID:gruene-sprockhoevel.de
METHOD:PUBLISH
BEGIN:VTIMEZONE
TZID:Europe/Berlin
X-LIC-LOCATION:Europe/Berlin
BEGIN:DAYLIGHT
TZOFFSETFROM:+0100
TZOFFSETTO:+0200
TZNAME:CEST
DTSTART:19700329T020000
RRULE:FREQ=YEARLY;INTERVAL=1;BYDAY=-1SU;BYMONTH=3
END:DAYLIGHT
BEGIN:STANDARD
TZOFFSETFROM:+0200
TZOFFSETTO:+0100
TZNAME:CET
DTSTART:19701025T030000
RRULE:FREQ=YEARLY;INTERVAL=1;BYDAY=-1SU;BYMONTH=10
END:STANDARD
END:VTIMEZONE
BEGIN:VEVENT
UID:c873fa48238e860b49f0dd29f61448cc@gruene-sprockhoevel.de
URL;VALUE=URI:https://gruene-sprockhoevel.de/termine/sprockhoevel-putztmu
 nter-3/
LOCATION:Grünen Büro, Am Eicken 10c, Sprockhövel
SUMMARY:Sprockhövel Putz(t)munter
DESCRIPTION;ALTREP="data:text/html,%0A%3Cp%3EWir%20sind%20bei%20der%20Sta
 dtweiten%20Aktion%20Sprockh%C3%B6vel%20Putz%28t%29munter%20mit%20dabei%20
 und%20treffen%20uns%20um%2017%3A00%20Uhr%20am%20Gr%C3%BCnen%20B%C3%BCro.%
 20Von%20dort%20aus%20werden%20wir%20den%20Bereich%20zwischen%20dem%20Schu
 lparkplatz%20an%20der%20Gl%C3%BCckauf-Allee%20%28L70n%29%20und%20Trasse%2
 0bis%20zur%20H%C3%B6lterstra%C3%9Fe%20reinigen.%20Spontane%20Helfer%2Ainn
 en%20sind%20gerne%20gesehen.%3C%2Fp%3E%0A":Wir sind bei der Stadtweiten A
 ktion Sprockhövel Putz(t)munter mit dabei und treffen uns um 17:00 Uhr a
 m Grünen Büro. Von dort aus werden wir den Bereich zwischen dem Schulpa
 rkplatz an der Glückauf-Allee (L70n) und Trasse bis zur Hölterstraße r
 einigen. Spontane Helfer*innen sind gerne gesehen.
CLASS:PUBLIC
DTSTART;TZID=Europe/Berlin:20250328T170000
DTEND;TZID=Europe/Berlin:20250328T183000
DTSTAMP:20260420T020234
END:VEVENT
END:VCALENDAR