BEGIN:VCALENDAR
VERSION:2.0
PRODID:gruene-sprockhoevel.de
METHOD:PUBLISH
BEGIN:VTIMEZONE
TZID:Europe/Berlin
X-LIC-LOCATION:Europe/Berlin
BEGIN:DAYLIGHT
TZOFFSETFROM:+0100
TZOFFSETTO:+0200
TZNAME:CEST
DTSTART:19700329T020000
RRULE:FREQ=YEARLY;INTERVAL=1;BYDAY=-1SU;BYMONTH=3
END:DAYLIGHT
BEGIN:STANDARD
TZOFFSETFROM:+0200
TZOFFSETTO:+0100
TZNAME:CET
DTSTART:19701025T030000
RRULE:FREQ=YEARLY;INTERVAL=1;BYDAY=-1SU;BYMONTH=10
END:STANDARD
END:VTIMEZONE
BEGIN:VEVENT
UID:4c3b7f01ebd92aa8e19ad3509583f1b3@gruene-sprockhoevel.de
URL;VALUE=URI:https://gruene-sprockhoevel.de/termine/themenabend-zum-iran
 /
LOCATION:Grünen Büro, Am Eicken 10c, Sprockhövel
SUMMARY:Themenabend zum Iran
DESCRIPTION;ALTREP="data:text/html,%0A%3Cp%3EGemeinsam%20werden%20wir%20%
 C3%BCber%20den%20Iran%20und%20dessen%20immer%20noch%20aktuelle%20Freiheit
 sbewegung%20sowie%20der%20geopolitischen%20Lage%20im%20Nahen%20Osten%20un
 d%20in%20Israel%2FPal%C3%A4stina%20diskutieren.%20Der%20Themenabend%20wir
 d%20eingeleitet%20durch%20unser%20aus%20dem%20Iran%20stammendes%20Mitglie
 d%20Mary%2C%20die%20viel%20lokale%20Expertise%20einbringt%20und%20die%20w
 ir%20f%C3%BCr%20ein%20Impulsreferat%20gewinnen%20konnten.%3C%2Fp%3E%0A%0A
 %0A%0A%3Cp%3EZu%20dem%20Gespr%C3%A4ch%20wird%20es%20auch%20passende%20Sna
 cks%20f%C3%BCr%20den%20kleinen%20Hunger%20geben.%20Wir%20w%C3%BCrden%20un
 s%20%C3%BCber%20einen%20intensiven%20Austausch%20mit%20vielen%20Menschen%
 20freuen.%20Alle%2C%20die%20einen%20respektvollen%20Austausch%20auch%20be
 i%20emotionaleren%20Themen%20wie%20diesem%20pflegen%2C%20sind%20herzlich%
 20willkommen.%3C%2Fp%3E%0A":Gemeinsam werden wir über den Iran und desse
 n immer noch aktuelle Freiheitsbewegung sowie der geopolitischen Lage im 
 Nahen Osten und in Israel/Palästina diskutieren. Der Themenabend wird ei
 ngeleitet durch unser aus dem Iran stammendes Mitglied Mary\, die viel lo
 kale Expertise einbringt und die wir für ein Impulsreferat gewinnen konn
 ten.\n\nZu dem Gespräch wird es auch passende Snacks für den kleinen Hu
 nger geben. Wir würden uns über einen intensiven Austausch mit vielen M
 enschen freuen. Alle\, die einen respektvollen Austausch auch bei emotion
 aleren Themen wie diesem pflegen\, sind herzlich willkommen.
CLASS:PUBLIC
DTSTART;TZID=Europe/Berlin:20231124T190000
DTEND;TZID=Europe/Berlin:20231124T220000
DTSTAMP:20260420T032222
END:VEVENT
END:VCALENDAR