BEGIN:VCALENDAR
VERSION:2.0
PRODID:gruene-sprockhoevel.de
METHOD:PUBLISH
BEGIN:VTIMEZONE
TZID:Europe/Berlin
X-LIC-LOCATION:Europe/Berlin
BEGIN:DAYLIGHT
TZOFFSETFROM:+0100
TZOFFSETTO:+0200
TZNAME:CEST
DTSTART:19700329T020000
RRULE:FREQ=YEARLY;INTERVAL=1;BYDAY=-1SU;BYMONTH=3
END:DAYLIGHT
BEGIN:STANDARD
TZOFFSETFROM:+0200
TZOFFSETTO:+0100
TZNAME:CET
DTSTART:19701025T030000
RRULE:FREQ=YEARLY;INTERVAL=1;BYDAY=-1SU;BYMONTH=10
END:STANDARD
END:VTIMEZONE
BEGIN:VEVENT
UID:97be7d0637ff3d07d63260cdd8d4e429@gruene-sprockhoevel.de
URL;VALUE=URI:https://gruene-sprockhoevel.de/termine/vorstandssitzung-der
 -gruenen-sprockhoevel/
LOCATION:Grünes Büro, Am Eicken 10c, Sprockhövel
SUMMARY:Vorstandstreffen der Grünen Sprockhövel
DESCRIPTION;ALTREP="data:text/html,%0A%3Cp%3EAn%20diesem%20Mittwoch%20spr
 icht%20der%20Vorstand%20des%20Ortsverbandes%20%C3%BCber%20die%20Themen%20
 der%20Gr%C3%BCnen%20im%20Ort.%20Von%20inhaltlichen%20Fragen%20%C3%BCber%2
 0Organisatorisches%20wird%20dort%20alles%20gekl%C3%A4rt.%20Schau%20gern%2
 0mal%20vorbei%20und%20diskutier%20mit%21%3C%2Fp%3E%0A":An diesem Mittwoch
  spricht der Vorstand des Ortsverbandes über die Themen der Grünen im O
 rt. Von inhaltlichen Fragen über Organisatorisches wird dort alles gekl
 ärt. Schau gern mal vorbei und diskutier mit!
CLASS:PUBLIC
DTSTART;TZID=Europe/Berlin:20240731T180000
DTEND;TZID=Europe/Berlin:20240731T200000
DTSTAMP:20260420T052938
END:VEVENT
END:VCALENDAR